BEGIN:VCALENDAR
VERSION:2.0
PRODID:-//Sask Sailing - ECPv6.15.20//NONSGML v1.0//EN
CALSCALE:GREGORIAN
METHOD:PUBLISH
X-WR-CALNAME:Sask Sailing
X-ORIGINAL-URL:https://sasksailing.ca
X-WR-CALDESC:Events for Sask Sailing
REFRESH-INTERVAL;VALUE=DURATION:PT1H
X-Robots-Tag:noindex
X-PUBLISHED-TTL:PT1H
BEGIN:VTIMEZONE
TZID:America/Regina
BEGIN:STANDARD
TZOFFSETFROM:-0600
TZOFFSETTO:-0600
TZNAME:CST
DTSTART:20250101T000000
END:STANDARD
END:VTIMEZONE
BEGIN:VEVENT
DTSTART;VALUE=DATE:20260911
DTEND;VALUE=DATE:20260914
DTSTAMP:20260423T030757
CREATED:20260123T065811Z
LAST-MODIFIED:20260215T114535Z
UID:2903-1789084800-1789343999@sasksailing.ca
SUMMARY:2026 ILCA-NA Masters Canadian Championship
DESCRIPTION:2026 ILCA-NA Masters Canadian Championship
URL:https://sasksailing.ca/event/2026-ilca-masters-canadian-championship/
LOCATION:Wabamun Sailing Club\, #3 53025\, Range Rd 43\, Parkland County\, Alberta\, T0E 2K0\, Canada
CATEGORIES:Out of Province Regattas
ORGANIZER;CN="Wabamun Sailing Club":MAILTO:commodore@wabamunsailingclub.com
END:VEVENT
BEGIN:VEVENT
DTSTART;VALUE=DATE:20260911
DTEND;VALUE=DATE:20260914
DTSTAMP:20260423T030757
CREATED:20260123T070325Z
LAST-MODIFIED:20260215T114506Z
UID:2907-1789084800-1789343999@sasksailing.ca
SUMMARY:2026 2.4mR Canadian Nationals
DESCRIPTION:2026 2.4mR Canadian Nationals
URL:https://sasksailing.ca/event/2026-2-4mr-canadian-nationals/
LOCATION:Royal Victoria Yacht Club\, 3475 Ripon Rd\, Victoria\, British Columbia\, V8R 6H1\, Canada
CATEGORIES:Out of Province Regattas
ORGANIZER;CN="Royal Victoria Yacht Club":MAILTO:info@rvyc.ca
END:VEVENT
BEGIN:VEVENT
DTSTART;VALUE=DATE:20260915
DTEND;VALUE=DATE:20260920
DTSTAMP:20260423T030757
CREATED:20260123T071243Z
LAST-MODIFIED:20260215T114441Z
UID:2911-1789430400-1789862399@sasksailing.ca
SUMMARY:2026 2.4mR North Americans
DESCRIPTION:2026 2.4mR North Americans
URL:https://sasksailing.ca/event/2026-2-4mr-north-americans/
LOCATION:Royal Victoria Yacht Club\, 3475 Ripon Rd\, Victoria\, British Columbia\, V8R 6H1\, Canada
CATEGORIES:Out of Province Regattas
ORGANIZER;CN="Royal Victoria Yacht Club":MAILTO:info@rvyc.ca
END:VEVENT
END:VCALENDAR